BEGIN:VCALENDAR
VERSION:2.0
PRODID:-//Rochester Black Nurses Association - ECPv6.15.20//NONSGML v1.0//EN
CALSCALE:GREGORIAN
METHOD:PUBLISH
X-WR-CALNAME:Rochester Black Nurses Association
X-ORIGINAL-URL:https://rocbna.org
X-WR-CALDESC:Events for Rochester Black Nurses Association
REFRESH-INTERVAL;VALUE=DURATION:PT1H
X-Robots-Tag:noindex
X-PUBLISHED-TTL:PT1H
BEGIN:VTIMEZONE
TZID:America/New_York
BEGIN:DAYLIGHT
TZOFFSETFROM:-0500
TZOFFSETTO:-0400
TZNAME:EDT
DTSTART:20250309T070000
END:DAYLIGHT
BEGIN:STANDARD
TZOFFSETFROM:-0400
TZOFFSETTO:-0500
TZNAME:EST
DTSTART:20251102T060000
END:STANDARD
BEGIN:DAYLIGHT
TZOFFSETFROM:-0500
TZOFFSETTO:-0400
TZNAME:EDT
DTSTART:20260308T070000
END:DAYLIGHT
BEGIN:STANDARD
TZOFFSETFROM:-0400
TZOFFSETTO:-0500
TZNAME:EST
DTSTART:20261101T060000
END:STANDARD
BEGIN:DAYLIGHT
TZOFFSETFROM:-0500
TZOFFSETTO:-0400
TZNAME:EDT
DTSTART:20270314T070000
END:DAYLIGHT
BEGIN:STANDARD
TZOFFSETFROM:-0400
TZOFFSETTO:-0500
TZNAME:EST
DTSTART:20271107T060000
END:STANDARD
END:VTIMEZONE
BEGIN:VEVENT
DTSTART;TZID=America/New_York:20260415T093000
DTEND;TZID=America/New_York:20260415T103000
DTSTAMP:20260424T132720
CREATED:20260413T123311Z
LAST-MODIFIED:20260413T123311Z
UID:1990-1776245400-1776249000@rocbna.org
SUMMARY:4th Annual Black Maternal Health Proclamation Event
DESCRIPTION:Join us for the 4th Annual Black Maternal Health Proclamation Event. \nThis year’s theme\, Legacy in Birth: Strengthening Him\, Protecting Her\, centers the role of Black fathers and community in protecting Black mothers. \nDate: Wednesday\, April 15\, 2026\nTime: 9:30 – 10:30 AM\nLocation: Ebenezer Watts Conference Center\n47 South Fitzhugh Street\nRochester\, NY \nRSVP only. Scan the QR code to secure your spot.\nYour presence matters. Stand with us. \n#BlackMaternalHealth #HealthEquity #RBNA #MaternalHealth #CommunityAction \n  \n 
URL:https://rocbna.org/event/4th-annual-black-maternal-health-proclamation-event/
END:VEVENT
END:VCALENDAR