BEGIN:VCALENDAR
VERSION:2.0
PRODID:-//Rochester Black Nurses Association - ECPv6.15.20//NONSGML v1.0//EN
CALSCALE:GREGORIAN
METHOD:PUBLISH
X-WR-CALNAME:Rochester Black Nurses Association
X-ORIGINAL-URL:https://rocbna.org
X-WR-CALDESC:Events for Rochester Black Nurses Association
REFRESH-INTERVAL;VALUE=DURATION:PT1H
X-Robots-Tag:noindex
X-PUBLISHED-TTL:PT1H
BEGIN:VTIMEZONE
TZID:America/New_York
BEGIN:DAYLIGHT
TZOFFSETFROM:-0500
TZOFFSETTO:-0400
TZNAME:EDT
DTSTART:20250309T070000
END:DAYLIGHT
BEGIN:STANDARD
TZOFFSETFROM:-0400
TZOFFSETTO:-0500
TZNAME:EST
DTSTART:20251102T060000
END:STANDARD
BEGIN:DAYLIGHT
TZOFFSETFROM:-0500
TZOFFSETTO:-0400
TZNAME:EDT
DTSTART:20260308T070000
END:DAYLIGHT
BEGIN:STANDARD
TZOFFSETFROM:-0400
TZOFFSETTO:-0500
TZNAME:EST
DTSTART:20261101T060000
END:STANDARD
BEGIN:DAYLIGHT
TZOFFSETFROM:-0500
TZOFFSETTO:-0400
TZNAME:EDT
DTSTART:20270314T070000
END:DAYLIGHT
BEGIN:STANDARD
TZOFFSETFROM:-0400
TZOFFSETTO:-0500
TZNAME:EST
DTSTART:20271107T060000
END:STANDARD
END:VTIMEZONE
BEGIN:VEVENT
DTSTART;TZID=America/New_York:20260127T180000
DTEND;TZID=America/New_York:20260127T200000
DTSTAMP:20260424T184925
CREATED:20250317T134309Z
LAST-MODIFIED:20251229T222955Z
UID:10000011-1769536800-1769544000@rocbna.org
SUMMARY:Rochester Black Nurses Association (RBNA) Monthly Meetings
DESCRIPTION:Every 4th Tuesday of the Month (No December Meeting)Time: 6:00 pm to 8:00 pmLocation: Zoom: https://us02web.zoom.us/j/2725557597 Join us for engaging discussions\, insightful presentations\, and a supportive community. Our monthly meetings provide a platform to connect\, share knowledge\, and foster professional growth. Don’t miss out on the opportunity to be part of this enriching experience! To join\, simply click the Zoom link during the scheduled time. We look forward to welcoming you at our upcoming gatherings  
URL:https://rocbna.org/event/rochester-black-nurses-association-rbna-monthly-meetings/2026-01-27/
LOCATION:https://us02web.zoom.us/j/2725557597
END:VEVENT
END:VCALENDAR